BEGIN:VCALENDAR
PRODID:-//AT Content Types//AT Event//EN
VERSION:2.0
METHOD:PUBLISH
BEGIN:VEVENT
DTSTAMP:20260424T142521Z
CREATED:20130418T134733Z
UID:ATEvent-911943703540d3ba821cbc8528001f70
LAST-MODIFIED:20130418T193338Z
SUMMARY:Encontro Regional Nordeste
DTSTART:20130523T110000Z
DTEND:20130525T170000Z
CLASS:PUBLIC
END:VEVENT
END:VCALENDAR
